BEGIN:VCALENDAR
VERSION:2.0
PRODID:-//Polk Brothers Racing Equipment - ECPv6.15.18//NONSGML v1.0//EN
CALSCALE:GREGORIAN
METHOD:PUBLISH
X-WR-CALNAME:Polk Brothers Racing Equipment
X-ORIGINAL-URL:https://polkracing.com
X-WR-CALDESC:Events for Polk Brothers Racing Equipment
REFRESH-INTERVAL;VALUE=DURATION:PT1H
X-Robots-Tag:noindex
X-PUBLISHED-TTL:PT1H
BEGIN:VTIMEZONE
TZID:UTC
BEGIN:STANDARD
TZOFFSETFROM:+0000
TZOFFSETTO:+0000
TZNAME:UTC
DTSTART:20240101T000000
END:STANDARD
END:VTIMEZONE
BEGIN:VEVENT
DTSTART;VALUE=DATE:20250405
DTEND;VALUE=DATE:20250406
DTSTAMP:20260422T015016
CREATED:20250129T190417Z
LAST-MODIFIED:20250811T171939Z
UID:169520-1743811200-1743897599@polkracing.com
SUMMARY:Regular Season starts at Indianapolis Speedrome
DESCRIPTION:
URL:https://polkracing.com/event/regular-season-starts-at-indianapolis-speedrome/
LOCATION:Indianapolis Speedrome\, 802 S Kitley Ave\, Indianapolis\, 46219\, United States
CATEGORIES:Team Races
END:VEVENT
BEGIN:VEVENT
DTSTART;VALUE=DATE:20250405
DTEND;VALUE=DATE:20250406
DTSTAMP:20260422T015016
CREATED:20250113T213431Z
LAST-MODIFIED:20250806T165516Z
UID:127702-1743811200-1743897599@polkracing.com
SUMMARY:GILLIAN LEPPADO - 6th Annual Wayne Arnold Memorial 75-Lap Outlaw Figure 8
DESCRIPTION:
URL:https://polkracing.com/event/gillian-leppado-6th-annual-wayne-arnold-memorial-75-lap-outlaw-figure-8/
LOCATION:Indianapolis Speedrome\, 802 S Kitley Ave\, Indianapolis\, 46219\, United States
CATEGORIES:Gillian Leppado Events,Team Races
END:VEVENT
BEGIN:VEVENT
DTSTART;TZID=UTC:20250222T190000
DTEND;TZID=UTC:20250222T220000
DTSTAMP:20260422T015016
CREATED:20250129T190334Z
LAST-MODIFIED:20250806T165516Z
UID:169519-1740250800-1740261600@polkracing.com
SUMMARY:BEN TUNNY - Auburndale Speedway\, 100 lap Figure 8
DESCRIPTION:
URL:https://polkracing.com/event/ben-tunny-auburndale-speedway-100-lap-figure-8/
LOCATION:Auburndale Speedway\, 5640 E County Rd 542\, Winter Haven\, FL\, 33880\, United States
CATEGORIES:Ben Tunny Events,Team Races
END:VEVENT
BEGIN:VEVENT
DTSTART;TZID=UTC:20250222T190000
DTEND;TZID=UTC:20250222T220000
DTSTAMP:20260422T015016
CREATED:20250113T213130Z
LAST-MODIFIED:20250806T165516Z
UID:127700-1740250800-1740261600@polkracing.com
SUMMARY:GILLIAN LEPPADO - Winter Storm Series (First Female Driver)
DESCRIPTION:
URL:https://polkracing.com/event/gillian-leppado-winter-storm-series-first-female-driver/
LOCATION:Auburndale Speedway\, 5640 E County Rd 542\, Winter Haven\, FL\, 33880\, United States
CATEGORIES:Gillian Leppado Events,Team Races
END:VEVENT
BEGIN:VEVENT
DTSTART;TZID=UTC:20250215T190000
DTEND;TZID=UTC:20250215T220000
DTSTAMP:20260422T015016
CREATED:20250129T190023Z
LAST-MODIFIED:20250806T165516Z
UID:169515-1739646000-1739656800@polkracing.com
SUMMARY:BEN TUNNY - Southern World Finals at Showtime Speedway
DESCRIPTION:
URL:https://polkracing.com/event/southern-world-finals-at-showtime-speedway/
LOCATION:Showtime Speedway Pinellas Park\, 4550 Ulmerton Rd\, Clearwater\, FL\, 33762\, United States
CATEGORIES:Ben Tunny Events,Team Races
END:VEVENT
BEGIN:VEVENT
DTSTART;TZID=UTC:20250215T190000
DTEND;TZID=UTC:20250215T220000
DTSTAMP:20260422T015016
CREATED:20250113T212625Z
LAST-MODIFIED:20250806T165516Z
UID:127698-1739646000-1739656800@polkracing.com
SUMMARY:GILLIAN LEPPADO - Winter Fest Series
DESCRIPTION:
URL:https://polkracing.com/event/winter-fest-series-showtime-speedway/
LOCATION:Showtime Speedway Pinellas Park\, 4550 Ulmerton Rd\, Clearwater\, FL\, 33762\, United States
CATEGORIES:Gillian Leppado Events,Team Races
END:VEVENT
BEGIN:VEVENT
DTSTART;TZID=UTC:20250113T170400
DTEND;TZID=UTC:20250113T170400
DTSTAMP:20260422T015016
CREATED:20250113T220430Z
LAST-MODIFIED:20250307T234800Z
UID:127710-1736787840-1736787840@polkracing.com
SUMMARY:JOHN WALP - Clinton County Speedway track championship Two 410 shows
DESCRIPTION:
URL:https://polkracing.com/event/john-walp-clinton-county-speedway-track-championship-two-410-shows/
LOCATION:Clinton County Speedway Track\, 98 Racetrack Road\, Mill Hall\, PA\, 17751\, United States
CATEGORIES:John Walp Events,Team Races
END:VEVENT
END:VCALENDAR